dset ^Mendoza14.dat
options byteswapped
undef 1.e30
title OUTPUT FROM WRF V3.8.1 MODEL
xdef 81 levels 286.26749 286.37796 286.48846 286.59894 286.70941 286.81989 286.93036 287.04086 287.15134 287.26184 287.37231 287.48279 287.59326 287.70374 287.81424 287.92471 288.03522 288.14569 288.25616 288.36664 288.47711 288.58762 288.69809 288.80856 288.91907 289.02954 289.14001 289.25049 289.36099 289.47147 289.58194 289.69244 289.80292 289.91339 290.02386 290.13434 290.24484 290.35532 290.46582 290.57629 290.68677 290.79724 290.90771 291.01822 291.12869 291.23920 291.34967 291.46014 291.57062 291.68109 291.79160 291.90207 292.01254 292.12305 292.23352 292.34399 292.45447 292.56497 292.67545 292.78592 292.89642 293.00690 293.11737 293.22784 293.33832 293.44882 293.55930 293.66980 293.78027 293.89075 294.00122 294.11169 294.22220 294.33267 294.44318 294.55365 294.66412 294.77460 294.88507 294.99557 295.10605
ydef 81 levels -38.498322 -38.411804 -38.325184 -38.238457 -38.151627 -38.064693 -37.977657 -37.890518 -37.803272 -37.715931 -37.628479 -37.540928 -37.453274 -37.365517 -37.277660 -37.189693 -37.101627 -37.013462 -36.925190 -36.836815 -36.748344 -36.659763 -36.571083 -36.482304 -36.393425 -36.304436 -36.215351 -36.126163 -36.036873 -35.947479 -35.857986 -35.768398 -35.678707 -35.588909 -35.499016 -35.409016 -35.318924 -35.228722 -35.138424 -35.048023 -34.957523 -34.866928 -34.776230 -34.685429 -34.594532 -34.503536 -34.412437 -34.321247 -34.229946 -34.138554 -34.047058 -33.955467 -33.863773 -33.771988 -33.680096 -33.588112 -33.496025 -33.403843 -33.311565 -33.219181 -33.126709 -33.034130 -32.941467 -32.848698 -32.755829 -32.662868 -32.569813 -32.476654 -32.383404 -32.290047 -32.196609 -32.103073 -32.009430 -31.915699 -31.821873 -31.727951 -31.633934 -31.539814 -31.445602 -31.351307 -31.256901
zdef 17 levels 1.00000 2.00000 3.00000 4.00000 5.00000 6.00000 7.00000 8.00000 9.00000 10.00000 11.00000 12.00000 13.00000 14.00000 15.00000 16.00000 17.00000
tdef 193 linear 00Z05FEB2010 30MN
VARS 9
U 17 0 x-wind component (m s-1)
V 17 0 y-wind component (m s-1)
W 17 0 z-wind component (m s-1)
QVAPOR 17 0 Water vapor mixing ratio (kg kg-1)
pressure 17 0 Model pressure (hPa)
tk 17 0 Temperature (K)
cape 17 0 CAPE (J/kg)
cin 17 0 CIN (J/kg)
lcl 1 0 LCL (meters AGL)
ENDVARS
@ global String comment TITLE = OUTPUT FROM WRF V3.8.1 MODEL
@ global String comment START_DATE = 2010-02-05_00:00:00
@ global String comment SIMULATION_START_DATE = 2010-02-05_00:00:00
@ global String comment WEST-EAST_GRID_DIMENSION = 82
@ global String comment SOUTH-NORTH_GRID_DIMENSION = 82
@ global String comment BOTTOM-TOP_GRID_DIMENSION = 20
@ global String comment DX = 10000.00
@ global String comment DY = 10000.00
@ global String comment SKEBS_ON = 0
@ global String comment SPEC_BDY_FINAL_MU = 1
@ global String comment USE_Q_DIABATIC = 0
@ global String comment GRIDTYPE = C
@ global String comment DIFF_OPT = 1
@ global String comment KM_OPT = 4
@ global String comment DAMP_OPT = 0
@ global String comment DAMPCOEF = 0.20
@ global String comment KHDIF = 0.00
@ global String comment KVDIF = 0.00
@ global String comment MP_PHYSICS = 3
@ global String comment RA_LW_PHYSICS = 1
@ global String comment RA_SW_PHYSICS = 1
@ global String comment SF_SFCLAY_PHYSICS = 1
@ global String comment SF_SURFACE_PHYSICS = 2
@ global String comment BL_PBL_PHYSICS = 1
@ global String comment CU_PHYSICS = 1
@ global String comment SF_LAKE_PHYSICS = 0
@ global String comment SURFACE_INPUT_SOURCE = 1
@ global String comment SST_UPDATE = 0
@ global String comment GRID_FDDA = 0
@ global String comment GFDDA_INTERVAL_M = 0
@ global String comment GFDDA_END_H = 0
@ global String comment GRID_SFDDA = 0
@ global String comment SGFDDA_INTERVAL_M = 0
@ global String comment SGFDDA_END_H = 0
@ global String comment HYPSOMETRIC_OPT = 2
@ global String comment USE_THETA_M = 0
@ global String comment SF_URBAN_PHYSICS = 0
@ global String comment SHCU_PHYSICS = 0
@ global String comment MFSHCONV = 0
@ global String comment FEEDBACK = 1
@ global String comment SMOOTH_OPTION = 0
@ global String comment SWRAD_SCAT = 1.00
@ global String comment W_DAMPING = 0
@ global String comment DT = 60.00
@ global String comment RADT = 30.00
@ global String comment BLDT = 0.00
@ global String comment CUDT = 5.00
@ global String comment AER_OPT = 0
@ global String comment SWINT_OPT = 0
@ global String comment AER_TYPE = 1
@ global String comment AER_AOD550_OPT = 1
@ global String comment AER_ANGEXP_OPT = 1
@ global String comment AER_SSA_OPT = 1
@ global String comment AER_ASY_OPT = 1
@ global String comment AER_AOD550_VAL = 0.12
@ global String comment AER_ANGEXP_VAL = 1.30
@ global String comment AER_SSA_VAL = 0.00
@ global String comment AER_ASY_VAL = 0.00
@ global String comment MOIST_ADV_OPT = 1
@ global String comment SCALAR_ADV_OPT = 1
@ global String comment TKE_ADV_OPT = 1
@ global String comment DIFF_6TH_OPT = 0
@ global String comment DIFF_6TH_FACTOR = 0.12
@ global String comment OBS_NUDGE_OPT = 0
@ global String comment BUCKET_MM = -1.00
@ global String comment BUCKET_J = -1.00
@ global String comment PREC_ACC_DT = 0.00
@ global String comment SF_OCEAN_PHYSICS = 0
@ global String comment ISFTCFLX = 0
@ global String comment ISHALLOW = 0
@ global String comment ISFFLX = 1
@ global String comment ICLOUD = 1
@ global String comment ICLOUD_CU = 0
@ global String comment TRACER_PBLMIX = 1
@ global String comment SCALAR_PBLMIX = 0
@ global String comment YSU_TOPDOWN_PBLMIX = 0
@ global String comment GRAV_SETTLING = 0
@ global String comment DFI_OPT = 0
@ global String comment SIMULATION_INITIALIZATION_TYPE = REAL-DATA CASE
@ global String comment WEST-EAST_PATCH_START_UNSTAG = 1
@ global String comment WEST-EAST_PATCH_END_UNSTAG = 81
@ global String comment WEST-EAST_PATCH_START_STAG = 1
@ global String comment WEST-EAST_PATCH_END_STAG = 82
@ global String comment SOUTH-NORTH_PATCH_START_UNSTAG = 1
@ global String comment SOUTH-NORTH_PATCH_END_UNSTAG = 81
@ global String comment SOUTH-NORTH_PATCH_START_STAG = 1
@ global String comment SOUTH-NORTH_PATCH_END_STAG = 82
@ global String comment BOTTOM-TOP_PATCH_START_UNSTAG = 1
@ global String comment BOTTOM-TOP_PATCH_END_UNSTAG = 19
@ global String comment BOTTOM-TOP_PATCH_START_STAG = 1
@ global String comment BOTTOM-TOP_PATCH_END_STAG = 20
@ global String comment GRID_ID = 2
@ global String comment PARENT_ID = 1
@ global String comment I_PARENT_START = 12
@ global String comment J_PARENT_START = 19
@ global String comment PARENT_GRID_RATIO = 3
@ global String comment CEN_LAT = -34.96
@ global String comment CEN_LON = -69.31
@ global String comment TRUELAT1 = -35.50
@ global String comment TRUELAT2 = 0.00
@ global String comment MOAD_CEN_LAT = -35.50
@ global String comment STAND_LON = -67.66
@ global String comment POLE_LAT = 90.00
@ global String comment POLE_LON = 0.00
@ global String comment GMT = 0.00
@ global String comment JULYR = 2010
@ global String comment JULDAY = 36
@ global String comment MAP_PROJ = 3
@ global String comment MAP_PROJ_CHAR = Mercator
@ global String comment MMINLU = MODIFIED_IGBP_MODIS_NOAH
@ global String comment NUM_LAND_CAT = 21
@ global String comment ISWATER = 17
@ global String comment ISLAKE = 21
@ global String comment ISICE = 15
@ global String comment ISURBAN = 13
@ global String comment ISOILWATER = 14
